BEGIN:VCALENDAR
VERSION:2.0
PRODID:-//Best of Mallorca - ECPv6.15.20//NONSGML v1.0//EN
CALSCALE:GREGORIAN
METHOD:PUBLISH
X-ORIGINAL-URL:https://best-of-mallorca.com
X-WR-CALDESC:Events for Best of Mallorca
REFRESH-INTERVAL;VALUE=DURATION:PT1H
X-Robots-Tag:noindex
X-PUBLISHED-TTL:PT1H
BEGIN:VTIMEZONE
TZID:Europe/Madrid
BEGIN:DAYLIGHT
TZOFFSETFROM:+0100
TZOFFSETTO:+0200
TZNAME:CEST
DTSTART:20210328T010000
END:DAYLIGHT
BEGIN:STANDARD
TZOFFSETFROM:+0200
TZOFFSETTO:+0100
TZNAME:CET
DTSTART:20211031T010000
END:STANDARD
BEGIN:DAYLIGHT
TZOFFSETFROM:+0100
TZOFFSETTO:+0200
TZNAME:CEST
DTSTART:20220327T010000
END:DAYLIGHT
BEGIN:STANDARD
TZOFFSETFROM:+0200
TZOFFSETTO:+0100
TZNAME:CET
DTSTART:20221030T010000
END:STANDARD
BEGIN:DAYLIGHT
TZOFFSETFROM:+0100
TZOFFSETTO:+0200
TZNAME:CEST
DTSTART:20230326T010000
END:DAYLIGHT
BEGIN:STANDARD
TZOFFSETFROM:+0200
TZOFFSETTO:+0100
TZNAME:CET
DTSTART:20231029T010000
END:STANDARD
END:VTIMEZONE
BEGIN:VEVENT
DTSTART;TZID=Europe/Madrid:20220720T000000
DTEND;TZID=Europe/Madrid:20220726T235959
DTSTAMP:20260419T155201
CREATED:20220315T195048Z
LAST-MODIFIED:20220315T201157Z
UID:10000020-1658275200-1658879999@best-of-mallorca.com
SUMMARY:Puerto Portals Sailing Week
DESCRIPTION:For the sixth year\, Puerto Portals will host one of the most emblematic competitions in the nautical world\, the 52 SUPER SERIES Puerto Portals Sailing Week\, which will take place from 20th to 26th july in one of the most prestigious marinas in the Mediterranean. \n\n\n\nThis year Puerto Portals is hosting the world championship of the best regatta circuit in the world for monohull boats\, bringing together the living history of sailing to compete in the “Formula 1 of the sea”.
URL:https://best-of-mallorca.com/event/puerto-portals-sailing-week/
LOCATION:Puerto Portals\, Mallorca\, Spain
ATTACH;FMTTYPE=image/jpeg:https://best-of-mallorca.com/wp-content/uploads/2022/03/sailing-week-puerto-portals-mallorca.jpeg
END:VEVENT
BEGIN:VEVENT
DTSTART;TZID=Europe/Madrid:20220429T120000
DTEND;TZID=Europe/Madrid:20220501T180000
DTSTAMP:20260419T155201
CREATED:20220315T194847Z
LAST-MODIFIED:20220315T211230Z
UID:10000021-1651233600-1651428000@best-of-mallorca.com
SUMMARY:Farmers Market
DESCRIPTION:The Farmers´ Market is the most traditional and authentic market on the island. The essence lies in a selection of the best Mallorcan products. The aim is to build a local market that is committed to local commerce\, one hundred per cent from the island. On the last weekend of April the boulevard fills up with exhibitors of food\, local crafts\, plants\, ceramics… Authentic Mallorcan culture. \n\n\n\nEnjoy the most natural picnic accompanied by good music while the little ones have fun and learn in the themed workshops we have prepared
URL:https://best-of-mallorca.com/event/farmers-market/
LOCATION:Puerto Portals\, Mallorca\, Spain
ATTACH;FMTTYPE=image/jpeg:https://best-of-mallorca.com/wp-content/uploads/2022/03/ceramic-farmers-market.jpg
END:VEVENT
END:VCALENDAR