BEGIN:VCALENDAR
VERSION:2.0
PRODID:-//Best of Mallorca - ECPv6.15.20//NONSGML v1.0//EN
CALSCALE:GREGORIAN
METHOD:PUBLISH
X-ORIGINAL-URL:https://best-of-mallorca.com
X-WR-CALDESC:Events for Best of Mallorca
REFRESH-INTERVAL;VALUE=DURATION:PT1H
X-Robots-Tag:noindex
X-PUBLISHED-TTL:PT1H
BEGIN:VTIMEZONE
TZID:Europe/Madrid
BEGIN:DAYLIGHT
TZOFFSETFROM:+0100
TZOFFSETTO:+0200
TZNAME:CEST
DTSTART:20210328T010000
END:DAYLIGHT
BEGIN:STANDARD
TZOFFSETFROM:+0200
TZOFFSETTO:+0100
TZNAME:CET
DTSTART:20211031T010000
END:STANDARD
BEGIN:DAYLIGHT
TZOFFSETFROM:+0100
TZOFFSETTO:+0200
TZNAME:CEST
DTSTART:20220327T010000
END:DAYLIGHT
BEGIN:STANDARD
TZOFFSETFROM:+0200
TZOFFSETTO:+0100
TZNAME:CET
DTSTART:20221030T010000
END:STANDARD
BEGIN:DAYLIGHT
TZOFFSETFROM:+0100
TZOFFSETTO:+0200
TZNAME:CEST
DTSTART:20230326T010000
END:DAYLIGHT
BEGIN:STANDARD
TZOFFSETFROM:+0200
TZOFFSETTO:+0100
TZNAME:CET
DTSTART:20231029T010000
END:STANDARD
END:VTIMEZONE
BEGIN:VEVENT
DTSTART;TZID=Europe/Madrid:20220702T000000
DTEND;TZID=Europe/Madrid:20220702T235959
DTSTAMP:20260420T074637
CREATED:20220315T201603Z
LAST-MODIFIED:20220315T202056Z
UID:10000019-1656720000-1656806399@best-of-mallorca.com
SUMMARY:Flower Power
DESCRIPTION:Puerto Portals travels back in time to the sixties to celebrate its Flower Power. During the night of the 2nd of July\, the port dresses up in the purest hippie style. The most genuine psychedelic party is celebrated for the fifth year with shows\, dancers\, live music and Ibizan decoration. Peace and Love!
URL:https://best-of-mallorca.com/event/flower-power/
LOCATION:Puerto Portals\, Puerto Portals\, Mallorca\, Spain
ATTACH;FMTTYPE=image/png:https://best-of-mallorca.com/wp-content/uploads/2022/03/flower-power-event-puerto-portals-mallorca.png
END:VEVENT
BEGIN:VEVENT
DTSTART;TZID=Europe/Madrid:20220512T000000
DTEND;TZID=Europe/Madrid:20220512T235959
DTSTAMP:20260420T074637
CREATED:20220315T203142Z
LAST-MODIFIED:20220331T102142Z
UID:10000018-1652313600-1652399999@best-of-mallorca.com
SUMMARY:Regata Travesia APD
DESCRIPTION:The V Regata Travesía APD (Asociación de Progreso de Dirección) will be held on 3 June and will start in the waters of Puerto Portals and head towards Ibiza\, finishing in the port of Marina Botafoch. A nautical experience that has become a tradition.
URL:https://best-of-mallorca.com/event/regata-travesia-apd/
LOCATION:Puerto Portals\, Puerto Portals\, Mallorca\, Spain
ATTACH;FMTTYPE=image/jpeg:https://best-of-mallorca.com/wp-content/uploads/2022/03/travesia-mallorca-ibiza-regata.jpeg
END:VEVENT
END:VCALENDAR